BEGIN:VCALENDAR
VERSION:2.0
PRODID:icalendar-ruby
CALSCALE:GREGORIAN
METHOD:PUBLISH
BEGIN:VEVENT
DTSTAMP:20260424T161447Z
UID:233-751436@crossandcrownbaptist.org
DTSTART:20261103T170000Z
DTEND:20261103T180000Z
CLASS:PUBLIC
CREATED:20260424T083754
DESCRIPTION:Join us for a time of encouragement and prayer!
LAST-MODIFIED:20260424T083754
LOCATION:Fellowship Hall
SUMMARY:Adult Prayer Meeting
URL;VALUE=URI:https://crossandcrownbaptist.org/events/adult-prayer-meeting/
 2026-11-03
ATTACH;FILENAME=6.png;FMTTYPE=image/png:https://dq5pwpg1q8ru0.cloudfront.ne
 t/2025/09/07/16/23/15/9bd2cb92-0ad5-425f-ab4b-df932a663c9d/6.png
END:VEVENT
END:VCALENDAR
