BEGIN:VCALENDAR
VERSION:2.0
PRODID:icalendar-ruby
CALSCALE:GREGORIAN
METHOD:PUBLISH
BEGIN:VEVENT
DTSTAMP:20260423T083822Z
UID:332-694720@crossandcrownbaptist.org
DTSTART:20260414T160000Z
DTEND:20260414T170000Z
CLASS:PUBLIC
CREATED:20260411T124929
DESCRIPTION:
LAST-MODIFIED:20260411T124929
LOCATION:Church Fellowship Hall
SUMMARY:Church Wide Prayer and Luncheon
URL;VALUE=URI:https://crossandcrownbaptist.org/events/church-wide-prayer-an
 d-luncheon/2026-04-14
ATTACH;FILENAME=17.png;FMTTYPE=image/png:https://dq5pwpg1q8ru0.cloudfront.n
 et/2026/04/11/17/48/40/84cfb6e8-a181-40dc-a5b0-830f5dd5f2df/17.png
END:VEVENT
END:VCALENDAR
